BEGIN:VCALENDAR
VERSION:2.0
PRODID:-//wp-events-plugin.com//7.2.3.1//EN
TZID:Europe/Prague
X-WR-TIMEZONE:Europe/Prague
BEGIN:VEVENT
UID:52@skihusky.cz
DTSTART;TZID=Europe/Prague:20250131T140000
DTEND;TZID=Europe/Prague:20250131T160000
DTSTAMP:20250321T102627Z
URL:https://www.skihusky.cz/events/detske-lyzarske-zavody-slalom-special-2
 025-01-31/
SUMMARY:Dětské lyžařské závody "SLALOM SPECIÁL"
DESCRIPTION:\n\nPřijďte prodat\, co jste se naučili\, na otevřený zá
 vod nejen pro klienty lyžařské školy HUSKY. Slalom pro děti od 3 do 
 13 let. Závodí se v různých věkových kategoriích. Pro 3 nejrychl
 ejší v každé kategorii jsou připraveny medaile\, ale nějakou tu cenu
  si odnese každý účastník. Kromě toho na vás čeká dětská disko
 téka\, kam dorazí protančit tlapy i náš maskot HUSKY.\nVyhlášení p
 robíhá cca 30 min po ukončení závodu u lyžařské školy.\n\n\n\n\
 nKDY? Každý pátek od 14:00\nKDE? Sjezdovka Pepek&amp\;Béďa (býval
 ý Jesen)\nStartovné: 250 Kč / 170 Kč pro klienti lyžařské školy 
 HUSKY\nPozor kapacita omezena! Rezervujte si své místo osobně v kan
 celáři lyžařské školy SKICENTRUM &amp\; PENZION HUSKY nebo telefoni
 cky na +420 605 598 388\, a to nejpozději ve čtvrtek do 18:00.\n\
 n
ATTACH;FMTTYPE=image/jpeg:https://www.skihusky.cz/wp-content/uploads/2024/
 01/detske-lzarske-zavody-01.png
CATEGORIES:Akce home page
END:VEVENT
BEGIN:VTIMEZONE
TZID:Europe/Prague
X-LIC-LOCATION:Europe/Prague
BEGIN:STANDARD
DTSTART:20241027T020000
TZOFFSETFROM:+0200
TZOFFSETTO:+0100
TZNAME:CET
END:STANDARD
END:VTIMEZONE
END:VCALENDAR